BEGIN:VCALENDAR
VERSION:2.0
PRODID:-//NORSAN Italia - ECPv6.15.20//NONSGML v1.0//EN
CALSCALE:GREGORIAN
METHOD:PUBLISH
X-ORIGINAL-URL:https://www.norsan.it
X-WR-CALDESC:Eventi per NORSAN Italia
REFRESH-INTERVAL;VALUE=DURATION:PT1H
X-Robots-Tag:noindex
X-PUBLISHED-TTL:PT1H
BEGIN:VTIMEZONE
TZID:Europe/Helsinki
BEGIN:DAYLIGHT
TZOFFSETFROM:+0200
TZOFFSETTO:+0300
TZNAME:EEST
DTSTART:20240331T010000
END:DAYLIGHT
BEGIN:STANDARD
TZOFFSETFROM:+0300
TZOFFSETTO:+0200
TZNAME:EET
DTSTART:20241027T010000
END:STANDARD
BEGIN:DAYLIGHT
TZOFFSETFROM:+0200
TZOFFSETTO:+0300
TZNAME:EEST
DTSTART:20250330T010000
END:DAYLIGHT
BEGIN:STANDARD
TZOFFSETFROM:+0300
TZOFFSETTO:+0200
TZNAME:EET
DTSTART:20251026T010000
END:STANDARD
BEGIN:DAYLIGHT
TZOFFSETFROM:+0200
TZOFFSETTO:+0300
TZNAME:EEST
DTSTART:20260329T010000
END:DAYLIGHT
BEGIN:STANDARD
TZOFFSETFROM:+0300
TZOFFSETTO:+0200
TZNAME:EET
DTSTART:20261025T010000
END:STANDARD
END:VTIMEZONE
BEGIN:VEVENT
DTSTART;TZID=Europe/Helsinki:20250524T090000
DTEND;TZID=Europe/Helsinki:20250524T180000
DTSTAMP:20260423T123421
CREATED:20240927T164202Z
LAST-MODIFIED:20250416T062946Z
UID:10000144-1748077200-1748109600@www.norsan.it
SUMMARY:1° Congresso INTERNAZIONALE sugli acidi grassi omega-3
DESCRIPTION:Evento in presenza \n\n\n\n\n\n\n\n\n\n\n\n\n\n\n\n\n\n\n\n \n\n\n\nImportante: NON SI TRATTA DI UN WEBINAR\, l’evento si terrà a Bolzano (BZ-Alto Adige). Non sarà possibile partecipare online o richiedere la registrazione! \n\n\n\nDescrizione:\n\n\n\nDopo il successo del 1. Congresso Omega-3 in Italia nel 2023 siamo davvero lieti di organizzare il 1. Congresso INTERNAZIONALE sugli acidi grassi omega-3. \n\n\n\nIl 24. Maggio 2025 presso il NOI Techpark a Bolzano esperti di fama internazionale discuteranno le ultime scoperte scientifiche sugli acidi grassi omega-3 ed i loro benefici per la salute. \n\n\n\nTutte le presentazioni saranno tradotte simultaneamente in Italiano. \n\n\n\nUlteriori informazioni \n\n\n\n\n\n \n\n\n\nData: Sabato\, 24.05.2024 \n\n\n\n📍 Location: NOI-Techpark Alto Adige\, Via Volta 13/A – 39100 Bolzano (BZ) \n\n\n\nOrario: ore 09:00 – ore 18:00 \n\n\n\nPrezzo: 89 € \n\n\n\n \n\n\n\nTermine d’iscrizione: 15 maggio 2025 o fino a esaurimento posti \n\n\n\n \n\n\n\nRelatori:  \n\n\n\n\nDott.ssa Cristina Tomasi\n\n\n\nProf. Ulrich Amon \n\n\n\nProf. Clemens von Schacky\n\n\n\nProf. Arrigo F. G. Cicero \n\n\n\nProf. Dr. Oliver Werz \n\n\n\nProf. Francesco De Seta\n\n\n\nDr. Uwe Gröber\n\n\n\nDr. Robert Percy Marshall \n\n\n\nDr. Volker Schmiedel \n\n\n\nDr. Kurt Mosetter\n\n\n\n\n\n\n\n\nIMPORTANTE: Si tratta di un evento a pagamento in presenza rivolto esclusivamente ai professionisti del settore sanitario. \n\n\n\n\nACQUISTA BIGLIETTO
URL:https://www.norsan.it/evento/primo-congresso-internazionale-omega3/
CATEGORIES:Eventi in presenza
ATTACH;FMTTYPE=image/jpeg:https://www.norsan.it/wp-content/uploads/2024/09/NL-Congresso-Internazionale-omega-3.jpg
END:VEVENT
END:VCALENDAR