BEGIN:VCALENDAR
VERSION:2.0
PRODID:-//NORSAN Italia - ECPv6.15.20//NONSGML v1.0//EN
CALSCALE:GREGORIAN
METHOD:PUBLISH
X-WR-CALNAME:NORSAN Italia
X-ORIGINAL-URL:https://www.norsan.it
X-WR-CALDESC:Eventi per NORSAN Italia
REFRESH-INTERVAL;VALUE=DURATION:PT1H
X-Robots-Tag:noindex
X-PUBLISHED-TTL:PT1H
BEGIN:VTIMEZONE
TZID:Europe/Helsinki
BEGIN:DAYLIGHT
TZOFFSETFROM:+0200
TZOFFSETTO:+0300
TZNAME:EEST
DTSTART:20250330T010000
END:DAYLIGHT
BEGIN:STANDARD
TZOFFSETFROM:+0300
TZOFFSETTO:+0200
TZNAME:EET
DTSTART:20251026T010000
END:STANDARD
BEGIN:DAYLIGHT
TZOFFSETFROM:+0200
TZOFFSETTO:+0300
TZNAME:EEST
DTSTART:20260329T010000
END:DAYLIGHT
BEGIN:STANDARD
TZOFFSETFROM:+0300
TZOFFSETTO:+0200
TZNAME:EET
DTSTART:20261025T010000
END:STANDARD
BEGIN:DAYLIGHT
TZOFFSETFROM:+0200
TZOFFSETTO:+0300
TZNAME:EEST
DTSTART:20270328T010000
END:DAYLIGHT
BEGIN:STANDARD
TZOFFSETFROM:+0300
TZOFFSETTO:+0200
TZNAME:EET
DTSTART:20271031T010000
END:STANDARD
END:VTIMEZONE
BEGIN:VEVENT
DTSTART;TZID=Europe/Helsinki:20260423T203000
DTEND;TZID=Europe/Helsinki:20260423T220000
DTSTAMP:20260423T121528
CREATED:20260210T090905Z
LAST-MODIFIED:20260217T085647Z
UID:10000248-1776976200-1776981600@www.norsan.it
SUMMARY:Cibo e cervello
DESCRIPTION:Terapia nutrizionale dell’Asse Intestino-Cervello \n\n\n\n\n\n\n\n\n\n\n\n\n\n\n\n\n\nDescrizione:\n\n\n\nIn questa terza serata del ciclo\, affronteremo il ruolo della nutrizione nella modulazione dell’Asse Intestino-Cervello (GBA) del cane. Partendo dalla conoscenza dei mediatori chiave come SCFA\, neurotrasmettitori e acidi biliari\, analizzeremo come le strategie nutrizionali possano influenzarne l’equilibrio\, anche in assenza di patologie evidenti. Approfondiremo l’uso clinico mirato degli Omega-3\, dei polifenoli e dei nutrienti ad azione immuno- e neuromodulante. Uno spazio sarà infine dedicato alla dieta fresca come possibile approccio funzionale integrato. \n\n\n\n\n\nData: Giovedì\, 23.04.2026 \n\n\n\nOra: 20.30 \n\n\n\nDurata: ca. 90 minuti \n\n\n\nPrezzo: Gratuito \n\n\n\nRelatrice: Dott.ssa Maria Mayer \n\n\n\nMedico Veterinario\, PhDMaster di II livello in Nutrizione e Dietetica Clinica del Cane e del GattoMaster di II livello in PNEI e Scienza della Cura IntegrataFondatrice Nutravet \n\n\n\n \n\n\n\n\n\n\n\nIl webinar è rivolto ai professionisti del settore sanitario. \n\n\n\n\nISCRIZIONE
URL:https://www.norsan.it/evento/cibo-cervello-terapia-nutrizionale-asse-intestino-cervello/
CATEGORIES:Webinar
ATTACH;FMTTYPE=image/jpeg:https://www.norsan.it/wp-content/uploads/2026/02/SITO_foten-webinar-con-Mayer-23.04.26.jpg
END:VEVENT
END:VCALENDAR